BEGIN:VCALENDAR
VERSION:2.0
PRODID:spatie/icalendar-generator
DESCRIPTION:Veranstaltungen von Veranstaltungen Hörstel aus allen 4 Ortste
 ilen in einer App
X-WR-CALDESC:Veranstaltungen von Veranstaltungen Hörstel aus allen 4 Ortst
 eilen in einer App
REFRESH-INTERVAL;VALUE=DURATION:PT1440M
X-PUBLISHED-TTL:PT1440M
BEGIN:VTIMEZONE
TZID:Etc/GMT+0
BEGIN:STANDARD
DTSTART:20250814T143000Z
TZOFFSETFROM:+0000
TZOFFSETTO:+0000
END:STANDARD
END:VTIMEZONE
BEGIN:VTIMEZONE
TZID:UTC
BEGIN:STANDARD
DTSTART:20250723T135225Z
TZOFFSETFROM:+0000
TZOFFSETTO:+0000
END:STANDARD
END:VTIMEZONE
BEGIN:VEVENT
UID:4483-164
DTSTAMP:20260419T135225Z
SUMMARY:Sprachfüchse
LOCATION:Familienzentrum Die Arche Westfalenstraße 6  Hörstel NRW 48477
ORGANIZER;CN=admin:MAILTO:johannes-sand@gmx.de
RRULE:FREQ=WEEKLY;UNTIL=20261214T000000Z
DTSTART;TZID=Etc/GMT+0:20260511T143000
DTEND;TZID=Etc/GMT+0:20260511T160000
X-ALT-DESC;FMTTYPE=TEXT/HTML:[caption id=\"attachment_1788\" align=\"alignc
 enter\" width=\"300\"] Sprachfüchse[/caption] Montags\, 14.30 Uhr bis 16 
 Uhr „Sprachfüchse\" für Kinder ab 4 Jahre\, Ort: Familienzentrum Die A
 rche\, Hörstel. Teilnahme an allen Veranstaltungen ist kostenfrei.  Anme
 ldung und Infos: Familienzentrum Die Arche\, Westfalenstraße 6\, 48477 H
 örstel\, Tel. 05459 932120\, E-Mail: kita.die-arche@ev-jugendhilfe.de. [c
 aption id=\"attachment_1664\" align=\"aligncenter\" width=\"300\"] Familie
 nzentrum \"Die Arche\" Hörstel[/caption]
CATEGORIES:Bildung,  General,  Treffen
URL;VALUE=URI:https://veranstaltungskalender-app.de/mc-events/sprachfuechse
 /?mc_id=4483
METHOD:PUBLISH
END:VEVENT
END:VCALENDAR