BEGIN:VCALENDAR
VERSION:2.0
PRODID:spatie/icalendar-generator
DESCRIPTION:Veranstaltungen von Veranstaltungen Hörstel aus allen 4 Ortste
 ilen in einer App
X-WR-CALDESC:Veranstaltungen von Veranstaltungen Hörstel aus allen 4 Ortst
 eilen in einer App
REFRESH-INTERVAL;VALUE=DURATION:PT1440M
X-PUBLISHED-TTL:PT1440M
BEGIN:VTIMEZONE
TZID:Etc/GMT+0
BEGIN:STANDARD
DTSTART:20250809T170000Z
TZOFFSETFROM:+0000
TZOFFSETTO:+0000
END:STANDARD
END:VTIMEZONE
BEGIN:VTIMEZONE
TZID:UTC
BEGIN:STANDARD
DTSTART:20250724T030719Z
TZOFFSETFROM:+0000
TZOFFSETTO:+0000
END:STANDARD
END:VTIMEZONE
BEGIN:VEVENT
UID:2152-5
DTSTAMP:20260420T030719Z
SUMMARY:VdK-Bingo
LOCATION:Haus Hilckmann Ostenwalder Str. 4  Hörstel NRW 48477
ORGANIZER;CN=admin:MAILTO:johannes-sand@gmx.de
RRULE:FREQ=MONTHLY;BYDAY=1WE;UNTIL=20261202T000000Z
DTSTART;TZID=Etc/GMT+0:20260506T170000
DTEND;TZID=Etc/GMT+0:20260506T180000
X-ALT-DESC;FMTTYPE=TEXT/HTML:Am Mittwoch\, ist um 17 Uhr in der Gaststätte
  Haus Hilckmann in Hörstel wieder Bingo. Eine Anmeldung dafür ist nicht 
 erforderlich. [caption id=\"attachment_871\" align=\"aligncenter\" width=\
 "225\"] VdK Hörstel Bingo[/caption]
CATEGORIES:Treffen,  Termin-Serie,  Veranstaltung,  Wettbewerb
URL;VALUE=URI:https://veranstaltungskalender-app.de/mc-events/vdk-bingo/?mc
 _id=2152
METHOD:PUBLISH
END:VEVENT
END:VCALENDAR